BEGIN:VCALENDAR
VERSION:2.0
PRODID:-//Consistoire protestant de Bouxwiller - ECPv6.15.20//NONSGML v1.0//EN
CALSCALE:GREGORIAN
METHOD:PUBLISH
X-WR-CALNAME:Consistoire protestant de Bouxwiller
X-ORIGINAL-URL:https://consistoireboux.fr
X-WR-CALDESC:Évènements pour Consistoire protestant de Bouxwiller
REFRESH-INTERVAL;VALUE=DURATION:PT1H
X-Robots-Tag:noindex
X-PUBLISHED-TTL:PT1H
BEGIN:VTIMEZONE
TZID:Europe/Paris
BEGIN:DAYLIGHT
TZOFFSETFROM:+0100
TZOFFSETTO:+0200
TZNAME:CEST
DTSTART:20230326T010000
END:DAYLIGHT
BEGIN:STANDARD
TZOFFSETFROM:+0200
TZOFFSETTO:+0100
TZNAME:CET
DTSTART:20231029T010000
END:STANDARD
BEGIN:DAYLIGHT
TZOFFSETFROM:+0100
TZOFFSETTO:+0200
TZNAME:CEST
DTSTART:20240331T010000
END:DAYLIGHT
BEGIN:STANDARD
TZOFFSETFROM:+0200
TZOFFSETTO:+0100
TZNAME:CET
DTSTART:20241027T010000
END:STANDARD
BEGIN:DAYLIGHT
TZOFFSETFROM:+0100
TZOFFSETTO:+0200
TZNAME:CEST
DTSTART:20250330T010000
END:DAYLIGHT
BEGIN:STANDARD
TZOFFSETFROM:+0200
TZOFFSETTO:+0100
TZNAME:CET
DTSTART:20251026T010000
END:STANDARD
END:VTIMEZONE
BEGIN:VEVENT
DTSTART;TZID=Europe/Paris:20241110T093000
DTEND;TZID=Europe/Paris:20241110T103000
DTSTAMP:20260423T181855
CREATED:20241003T090839Z
LAST-MODIFIED:20241003T090839Z
UID:2363-1731231000-1731234600@consistoireboux.fr
SUMMARY:Culte avec Sainte-Cène à Buswiller
DESCRIPTION:
URL:https://consistoireboux.fr/event/culte-avec-sainte-cene-a-buswiller-10/
LOCATION:Église Saint-Sixte Buswiller\, rue Principale\, BUSWILLER\, 67270\, France
CATEGORIES:Cultes
END:VEVENT
BEGIN:VEVENT
DTSTART;TZID=Europe/Paris:20241110T093000
DTEND;TZID=Europe/Paris:20241110T103000
DTSTAMP:20260423T181855
CREATED:20241003T091210Z
LAST-MODIFIED:20241003T091210Z
UID:2367-1731231000-1731234600@consistoireboux.fr
SUMMARY:Culte à Gottesheim
DESCRIPTION:
URL:https://consistoireboux.fr/event/culte-a-gottesheim-49/
LOCATION:Église Saint-Oswald de Gottesheim\, rue des Seigneurs\, GOTTESHEIM\, 67940\, France
CATEGORIES:Cultes
END:VEVENT
BEGIN:VEVENT
DTSTART;TZID=Europe/Paris:20241110T103000
DTEND;TZID=Europe/Paris:20241110T113000
DTSTAMP:20260423T181855
CREATED:20241003T090736Z
LAST-MODIFIED:20241003T090736Z
UID:2361-1731234600-1731238200@consistoireboux.fr
SUMMARY:Culte à Hattmatt
DESCRIPTION:Avec Christian Albecker et Manuela Kraft
URL:https://consistoireboux.fr/event/culte-a-hattmatt-56/
LOCATION:Église simultanée Saint Laurent Hattmatt\, 2 rue de Dossenheim\, HATTMATT\, 67330\, France
CATEGORIES:Cultes
END:VEVENT
BEGIN:VEVENT
DTSTART;TZID=Europe/Paris:20241110T104500
DTEND;TZID=Europe/Paris:20241110T114500
DTSTAMP:20260423T181855
CREATED:20241003T090528Z
LAST-MODIFIED:20241003T090528Z
UID:2359-1731235500-1731239100@consistoireboux.fr
SUMMARY:Culte à Uttwiller
DESCRIPTION:
URL:https://consistoireboux.fr/event/culte-a-uttwiller-25/
LOCATION:Eglise protestante d’Uttwiller\, rue d'Ingwiller\, UTTWILLER\, 67330\, France
CATEGORIES:Cultes
END:VEVENT
BEGIN:VEVENT
DTSTART;TZID=Europe/Paris:20241110T104500
DTEND;TZID=Europe/Paris:20241110T114500
DTSTAMP:20260423T181855
CREATED:20241003T091002Z
LAST-MODIFIED:20241003T091002Z
UID:2365-1731235500-1731239100@consistoireboux.fr
SUMMARY:Culte à Bosselshausen
DESCRIPTION:Mémoire des défunts
URL:https://consistoireboux.fr/event/culte-a-bosselshausen-24/
LOCATION:Église protestante de Bosselshausen\, 12 rue Principale\, BOSSELSHAUSEN\, 67330
CATEGORIES:Cultes
END:VEVENT
END:VCALENDAR