BEGIN:VCALENDAR
VERSION:2.0
PRODID:-//Consistoire protestant de Bouxwiller - ECPv6.15.20//NONSGML v1.0//EN
CALSCALE:GREGORIAN
METHOD:PUBLISH
X-WR-CALNAME:Consistoire protestant de Bouxwiller
X-ORIGINAL-URL:https://consistoireboux.fr
X-WR-CALDESC:Évènements pour Consistoire protestant de Bouxwiller
REFRESH-INTERVAL;VALUE=DURATION:PT1H
X-Robots-Tag:noindex
X-PUBLISHED-TTL:PT1H
BEGIN:VTIMEZONE
TZID:Europe/Paris
BEGIN:DAYLIGHT
TZOFFSETFROM:+0100
TZOFFSETTO:+0200
TZNAME:CEST
DTSTART:20240331T010000
END:DAYLIGHT
BEGIN:STANDARD
TZOFFSETFROM:+0200
TZOFFSETTO:+0100
TZNAME:CET
DTSTART:20241027T010000
END:STANDARD
BEGIN:DAYLIGHT
TZOFFSETFROM:+0100
TZOFFSETTO:+0200
TZNAME:CEST
DTSTART:20250330T010000
END:DAYLIGHT
BEGIN:STANDARD
TZOFFSETFROM:+0200
TZOFFSETTO:+0100
TZNAME:CET
DTSTART:20251026T010000
END:STANDARD
BEGIN:DAYLIGHT
TZOFFSETFROM:+0100
TZOFFSETTO:+0200
TZNAME:CEST
DTSTART:20260329T010000
END:DAYLIGHT
BEGIN:STANDARD
TZOFFSETFROM:+0200
TZOFFSETTO:+0100
TZNAME:CET
DTSTART:20261025T010000
END:STANDARD
END:VTIMEZONE
BEGIN:VEVENT
DTSTART;TZID=Europe/Paris:20250921T093000
DTEND;TZID=Europe/Paris:20250921T103000
DTSTAMP:20260420T211110
CREATED:20250829T090548Z
LAST-MODIFIED:20250829T090548Z
UID:3203-1758447000-1758450600@consistoireboux.fr
SUMMARY:Culte à Hattmatt
DESCRIPTION:
URL:https://consistoireboux.fr/event/culte-a-hattmatt-73/
LOCATION:Église simultanée Saint Laurent Hattmatt\, 2 rue de Dossenheim\, HATTMATT\, 67330\, France
CATEGORIES:Cultes
END:VEVENT
BEGIN:VEVENT
DTSTART;TZID=Europe/Paris:20250921T104500
DTEND;TZID=Europe/Paris:20250921T114500
DTSTAMP:20260420T211110
CREATED:20250829T085941Z
LAST-MODIFIED:20250829T085941Z
UID:3201-1758451500-1758455100@consistoireboux.fr
SUMMARY:Culte à Riedheim
DESCRIPTION:
URL:https://consistoireboux.fr/event/culte-a-riedheim-29/
LOCATION:Église simultanée de Riedheim\, rue de l'Église\, RIEDHEIM\, 67330\, France
CATEGORIES:Cultes
END:VEVENT
BEGIN:VEVENT
DTSTART;TZID=Europe/Paris:20250921T104500
DTEND;TZID=Europe/Paris:20250921T114500
DTSTAMP:20260420T211110
CREATED:20250829T090833Z
LAST-MODIFIED:20250829T090833Z
UID:3205-1758451500-1758455100@consistoireboux.fr
SUMMARY:Culte à Kirrwiller
DESCRIPTION:Noce d’or
URL:https://consistoireboux.fr/event/culte-a-kirrwiller-32/
LOCATION:Église luthérienne de Kirrwiller\, rue Principale\, KIRRWILLER\, 67330\, France
CATEGORIES:Cultes
END:VEVENT
BEGIN:VEVENT
DTSTART;TZID=Europe/Paris:20250921T104500
DTEND;TZID=Europe/Paris:20250921T114500
DTSTAMP:20260420T211110
CREATED:20250829T091142Z
LAST-MODIFIED:20250829T091142Z
UID:3207-1758451500-1758455100@consistoireboux.fr
SUMMARY:Culte à Wickersheim
DESCRIPTION:
URL:https://consistoireboux.fr/event/culte-a-wickersheim-43/
LOCATION:Église protestante de Wickersheim\, place de l'Église\, WICKERSHEIM\, 67270\, France
CATEGORIES:Cultes
END:VEVENT
BEGIN:VEVENT
DTSTART;TZID=Europe/Paris:20250921T143000
DTEND;TZID=Europe/Paris:20250921T173000
DTSTAMP:20260420T211110
CREATED:20250903T082500Z
LAST-MODIFIED:20250903T083017Z
UID:3328-1758465000-1758475800@consistoireboux.fr
SUMMARY:Journées du Patrimoine à Printzheim
DESCRIPTION:
URL:https://consistoireboux.fr/event/journees-du-patrimone-a-printzheim-2/
LOCATION:Église protestante de Printzheim\, 60 place de l'Église\, PRINTZHEIM\, 67490\, France
CATEGORIES:Exposition
END:VEVENT
BEGIN:VEVENT
DTSTART;TZID=Europe/Paris:20250921T143000
DTEND;TZID=Europe/Paris:20250921T193000
DTSTAMP:20260420T211110
CREATED:20250903T082234Z
LAST-MODIFIED:20250903T083053Z
UID:3324-1758465000-1758483000@consistoireboux.fr
SUMMARY:Journées du Patrimoine à Bouxwiller
DESCRIPTION:
URL:https://consistoireboux.fr/event/journees-du-patrimone-a-bouxwiller-2/
LOCATION:Église protestante de Bouxwiller\, rue de l'Église\, BOUXWILLER\, 67330\, France
CATEGORIES:Exposition
END:VEVENT
END:VCALENDAR