BEGIN:VCALENDAR
VERSION:2.0
PRODID:-//Consistoire protestant de Bouxwiller - ECPv6.15.20//NONSGML v1.0//EN
CALSCALE:GREGORIAN
METHOD:PUBLISH
X-ORIGINAL-URL:https://consistoireboux.fr
X-WR-CALDESC:Évènements pour Consistoire protestant de Bouxwiller
REFRESH-INTERVAL;VALUE=DURATION:PT1H
X-Robots-Tag:noindex
X-PUBLISHED-TTL:PT1H
BEGIN:VTIMEZONE
TZID:Europe/Paris
BEGIN:DAYLIGHT
TZOFFSETFROM:+0100
TZOFFSETTO:+0200
TZNAME:CEST
DTSTART:20240331T010000
END:DAYLIGHT
BEGIN:STANDARD
TZOFFSETFROM:+0200
TZOFFSETTO:+0100
TZNAME:CET
DTSTART:20241027T010000
END:STANDARD
BEGIN:DAYLIGHT
TZOFFSETFROM:+0100
TZOFFSETTO:+0200
TZNAME:CEST
DTSTART:20250330T010000
END:DAYLIGHT
BEGIN:STANDARD
TZOFFSETFROM:+0200
TZOFFSETTO:+0100
TZNAME:CET
DTSTART:20251026T010000
END:STANDARD
BEGIN:DAYLIGHT
TZOFFSETFROM:+0100
TZOFFSETTO:+0200
TZNAME:CEST
DTSTART:20260329T010000
END:DAYLIGHT
BEGIN:STANDARD
TZOFFSETFROM:+0200
TZOFFSETTO:+0100
TZNAME:CET
DTSTART:20261025T010000
END:STANDARD
END:VTIMEZONE
BEGIN:VEVENT
DTSTART;TZID=Europe/Paris:20251026T093000
DTEND;TZID=Europe/Paris:20251026T103000
DTSTAMP:20260421T090520
CREATED:20250830T081939Z
LAST-MODIFIED:20250830T081939Z
UID:3241-1761471000-1761474600@consistoireboux.fr
SUMMARY:Culte à Hattmatt
DESCRIPTION:Culte de la Réformation
URL:https://consistoireboux.fr/event/culte-a-hattmatt-75/
LOCATION:Église simultanée Saint Laurent Hattmatt\, 2 rue de Dossenheim\, HATTMATT\, 67330\, France
CATEGORIES:Cultes
END:VEVENT
BEGIN:VEVENT
DTSTART;TZID=Europe/Paris:20251026T093000
DTEND;TZID=Europe/Paris:20251026T103000
DTSTAMP:20260421T090520
CREATED:20250830T082347Z
LAST-MODIFIED:20250830T082347Z
UID:3245-1761471000-1761474600@consistoireboux.fr
SUMMARY:Culte avec Sainte-Cène à Buswiller
DESCRIPTION:Culte de la Réformation
URL:https://consistoireboux.fr/event/culte-avec-sainte-cene-a-buswiller-14/
LOCATION:Église Saint-Sixte Buswiller\, rue Principale\, BUSWILLER\, 67270\, France
CATEGORIES:Cultes
END:VEVENT
BEGIN:VEVENT
DTSTART;TZID=Europe/Paris:20251026T093000
DTEND;TZID=Europe/Paris:20251026T103000
DTSTAMP:20260421T090520
CREATED:20250830T082450Z
LAST-MODIFIED:20250830T082450Z
UID:3247-1761471000-1761474600@consistoireboux.fr
SUMMARY:Culte avec Sainte-Cène à Printzheim
DESCRIPTION:Culte de la Réformation
URL:https://consistoireboux.fr/event/culte-avec-sainte-cene-a-printzheim-13/
LOCATION:Église protestante de Printzheim\, 60 place de l'Église\, PRINTZHEIM\, 67490\, France
CATEGORIES:Cultes
END:VEVENT
BEGIN:VEVENT
DTSTART;TZID=Europe/Paris:20251026T104500
DTEND;TZID=Europe/Paris:20251026T114500
DTSTAMP:20260421T090520
CREATED:20250830T081810Z
LAST-MODIFIED:20250830T081810Z
UID:3239-1761475500-1761479100@consistoireboux.fr
SUMMARY:Culte avec Sainte-Cène à Riedheim
DESCRIPTION:Culte de la Réformation
URL:https://consistoireboux.fr/event/culte-avec-sainte-cene-a-riedheim-16/
LOCATION:Église simultanée de Riedheim\, rue de l'Église\, RIEDHEIM\, 67330\, France
CATEGORIES:Cultes
END:VEVENT
BEGIN:VEVENT
DTSTART;TZID=Europe/Paris:20251026T104500
DTEND;TZID=Europe/Paris:20251026T114500
DTSTAMP:20260421T090520
CREATED:20250830T082119Z
LAST-MODIFIED:20250830T082119Z
UID:3243-1761475500-1761479100@consistoireboux.fr
SUMMARY:Culte à Imbsheim
DESCRIPTION:Culte de la Réformation
URL:https://consistoireboux.fr/event/culte-a-imbsheim-71/
LOCATION:Église simultanée de Imbsheim\, 48A rue principale\, IMBSHEIM\, 67330\, France
CATEGORIES:Cultes
END:VEVENT
END:VCALENDAR