BEGIN:VCALENDAR
VERSION:2.0
PRODID:-//Consistoire protestant de Bouxwiller - ECPv6.15.20//NONSGML v1.0//EN
CALSCALE:GREGORIAN
METHOD:PUBLISH
X-ORIGINAL-URL:https://consistoireboux.fr
X-WR-CALDESC:Évènements pour Consistoire protestant de Bouxwiller
REFRESH-INTERVAL;VALUE=DURATION:PT1H
X-Robots-Tag:noindex
X-PUBLISHED-TTL:PT1H
BEGIN:VTIMEZONE
TZID:Europe/Paris
BEGIN:DAYLIGHT
TZOFFSETFROM:+0100
TZOFFSETTO:+0200
TZNAME:CEST
DTSTART:20240331T010000
END:DAYLIGHT
BEGIN:STANDARD
TZOFFSETFROM:+0200
TZOFFSETTO:+0100
TZNAME:CET
DTSTART:20241027T010000
END:STANDARD
BEGIN:DAYLIGHT
TZOFFSETFROM:+0100
TZOFFSETTO:+0200
TZNAME:CEST
DTSTART:20250330T010000
END:DAYLIGHT
BEGIN:STANDARD
TZOFFSETFROM:+0200
TZOFFSETTO:+0100
TZNAME:CET
DTSTART:20251026T010000
END:STANDARD
BEGIN:DAYLIGHT
TZOFFSETFROM:+0100
TZOFFSETTO:+0200
TZNAME:CEST
DTSTART:20260329T010000
END:DAYLIGHT
BEGIN:STANDARD
TZOFFSETFROM:+0200
TZOFFSETTO:+0100
TZNAME:CET
DTSTART:20261025T010000
END:STANDARD
END:VTIMEZONE
BEGIN:VEVENT
DTSTART;TZID=Europe/Paris:20251123T093000
DTEND;TZID=Europe/Paris:20251123T103000
DTSTAMP:20260421T103602
CREATED:20251105T083956Z
LAST-MODIFIED:20251105T083956Z
UID:3427-1763890200-1763893800@consistoireboux.fr
SUMMARY:Culte à Niedersoultzbach
DESCRIPTION:Culte de Mémoire des défunts
URL:https://consistoireboux.fr/event/culte-a-niedersoultzbach-33/
LOCATION:Église protestante de Niedersoultzbach\, 1 rue de l'Église\, NIEDERSOULTZBACH\, 67330\, France
CATEGORIES:Cultes
END:VEVENT
BEGIN:VEVENT
DTSTART;TZID=Europe/Paris:20251123T093000
DTEND;TZID=Europe/Paris:20251123T103000
DTSTAMP:20260421T103602
CREATED:20251105T090038Z
LAST-MODIFIED:20251105T090038Z
UID:3431-1763890200-1763893800@consistoireboux.fr
SUMMARY:Culte à Imbsheim
DESCRIPTION:Culte de Mémoire des défunts
URL:https://consistoireboux.fr/event/culte-a-imbsheim-73/
LOCATION:Église simultanée de Imbsheim\, 48A rue principale\, IMBSHEIM\, 67330\, France
CATEGORIES:Cultes
END:VEVENT
BEGIN:VEVENT
DTSTART;TZID=Europe/Paris:20251123T093000
DTEND;TZID=Europe/Paris:20251123T103000
DTSTAMP:20260421T103602
CREATED:20251105T090238Z
LAST-MODIFIED:20251105T090238Z
UID:3435-1763890200-1763893800@consistoireboux.fr
SUMMARY:Culte à Buswiller
DESCRIPTION:Culte de Mémoire des défunts
URL:https://consistoireboux.fr/event/culte-a-buswiller-37/
LOCATION:Église Saint-Sixte Buswiller\, rue Principale\, BUSWILLER\, 67270\, France
CATEGORIES:Cultes
END:VEVENT
BEGIN:VEVENT
DTSTART;TZID=Europe/Paris:20251123T104500
DTEND;TZID=Europe/Paris:20251123T114500
DTSTAMP:20260421T103602
CREATED:20251105T084147Z
LAST-MODIFIED:20251105T084147Z
UID:3429-1763894700-1763898300@consistoireboux.fr
SUMMARY:Culte à Uttwiller
DESCRIPTION:Culte de Mémoire des défunts
URL:https://consistoireboux.fr/event/culte-a-uttwiller-33/
LOCATION:Eglise protestante d’Uttwiller\, rue d'Ingwiller\, UTTWILLER\, 67330\, France
CATEGORIES:Cultes
END:VEVENT
BEGIN:VEVENT
DTSTART;TZID=Europe/Paris:20251123T104500
DTEND;TZID=Europe/Paris:20251123T114500
DTSTAMP:20260421T103602
CREATED:20251105T090133Z
LAST-MODIFIED:20251105T090133Z
UID:3433-1763894700-1763898300@consistoireboux.fr
SUMMARY:Culte à Hattmatt
DESCRIPTION:Culte de Mémoire des défunts
URL:https://consistoireboux.fr/event/culte-a-hattmatt-78/
LOCATION:Église simultanée Saint Laurent Hattmatt\, 2 rue de Dossenheim\, HATTMATT\, 67330\, France
CATEGORIES:Cultes
END:VEVENT
BEGIN:VEVENT
DTSTART;TZID=Europe/Paris:20251123T104500
DTEND;TZID=Europe/Paris:20251123T114500
DTSTAMP:20260421T103602
CREATED:20251105T090331Z
LAST-MODIFIED:20251105T090331Z
UID:3437-1763894700-1763898300@consistoireboux.fr
SUMMARY:Culte à Bosselshausen
DESCRIPTION:Culte de Mémoire des défunts
URL:https://consistoireboux.fr/event/culte-a-bosselshausen-36/
LOCATION:Église protestante de Bosselshausen\, 12 rue Principale\, BOSSELSHAUSEN\, 67330
CATEGORIES:Cultes
END:VEVENT
BEGIN:VEVENT
DTSTART;TZID=Europe/Paris:20251123T104500
DTEND;TZID=Europe/Paris:20251123T114500
DTSTAMP:20260421T103602
CREATED:20251105T090425Z
LAST-MODIFIED:20251105T090425Z
UID:3439-1763894700-1763898300@consistoireboux.fr
SUMMARY:Culte à Printzheim
DESCRIPTION:Culte de Mémoire des défunts
URL:https://consistoireboux.fr/event/culte-a-printzheim-59/
LOCATION:Église protestante de Printzheim\, 60 place de l'Église\, PRINTZHEIM\, 67490\, France
CATEGORIES:Cultes
END:VEVENT
BEGIN:VEVENT
DTSTART;TZID=Europe/Paris:20251123T104500
DTEND;TZID=Europe/Paris:20251123T114500
DTSTAMP:20260421T103602
CREATED:20251105T090515Z
LAST-MODIFIED:20251105T090515Z
UID:3441-1763894700-1763898300@consistoireboux.fr
SUMMARY:Culte avec Sainte-Cène à Wickersheim
DESCRIPTION:Culte de Mémoire des défunts
URL:https://consistoireboux.fr/event/culte-avec-sainte-cene-a-wickersheim-13/
LOCATION:Église protestante de Wickersheim\, place de l'Église\, WICKERSHEIM\, 67270\, France
CATEGORIES:Cultes
END:VEVENT
END:VCALENDAR