BEGIN:VCALENDAR
VERSION:2.0
PRODID:-//Consistoire protestant de Bouxwiller - ECPv6.15.20//NONSGML v1.0//EN
CALSCALE:GREGORIAN
METHOD:PUBLISH
X-WR-CALNAME:Consistoire protestant de Bouxwiller
X-ORIGINAL-URL:https://consistoireboux.fr
X-WR-CALDESC:Évènements pour Consistoire protestant de Bouxwiller
REFRESH-INTERVAL;VALUE=DURATION:PT1H
X-Robots-Tag:noindex
X-PUBLISHED-TTL:PT1H
BEGIN:VTIMEZONE
TZID:Europe/Paris
BEGIN:DAYLIGHT
TZOFFSETFROM:+0100
TZOFFSETTO:+0200
TZNAME:CEST
DTSTART:20240331T010000
END:DAYLIGHT
BEGIN:STANDARD
TZOFFSETFROM:+0200
TZOFFSETTO:+0100
TZNAME:CET
DTSTART:20241027T010000
END:STANDARD
BEGIN:DAYLIGHT
TZOFFSETFROM:+0100
TZOFFSETTO:+0200
TZNAME:CEST
DTSTART:20250330T010000
END:DAYLIGHT
BEGIN:STANDARD
TZOFFSETFROM:+0200
TZOFFSETTO:+0100
TZNAME:CET
DTSTART:20251026T010000
END:STANDARD
BEGIN:DAYLIGHT
TZOFFSETFROM:+0100
TZOFFSETTO:+0200
TZNAME:CEST
DTSTART:20260329T010000
END:DAYLIGHT
BEGIN:STANDARD
TZOFFSETFROM:+0200
TZOFFSETTO:+0100
TZNAME:CET
DTSTART:20261025T010000
END:STANDARD
END:VTIMEZONE
BEGIN:VEVENT
DTSTART;TZID=Europe/Paris:20251221T100000
DTEND;TZID=Europe/Paris:20251221T110000
DTSTAMP:20260424T025301
CREATED:20251108T085148Z
LAST-MODIFIED:20251108T085339Z
UID:3500-1766311200-1766314800@consistoireboux.fr
SUMMARY:Noël des enfants à Bouxwiller
DESCRIPTION:4éme dimanche de l’Avent
URL:https://consistoireboux.fr/event/noel-des-enfants-a-bouxwiller/
LOCATION:Église protestante de Bouxwiller\, rue de l'Église\, BOUXWILLER\, 67330\, France
CATEGORIES:Cultes
END:VEVENT
BEGIN:VEVENT
DTSTART;TZID=Europe/Paris:20251221T104500
DTEND;TZID=Europe/Paris:20251221T114500
DTSTAMP:20260424T025301
CREATED:20251108T090438Z
LAST-MODIFIED:20251108T090438Z
UID:3512-1766313900-1766317500@consistoireboux.fr
SUMMARY:Noël des enfants à Geiswiller
DESCRIPTION:
URL:https://consistoireboux.fr/event/noel-des-enfants-a-geiswiller/
CATEGORIES:Veillée
END:VEVENT
BEGIN:VEVENT
DTSTART;TZID=Europe/Paris:20251221T160000
DTEND;TZID=Europe/Paris:20251221T170000
DTSTAMP:20260424T025301
CREATED:20251108T090218Z
LAST-MODIFIED:20251108T090218Z
UID:3510-1766332800-1766336400@consistoireboux.fr
SUMMARY:Noël des enfants à Ringendorf
DESCRIPTION:
URL:https://consistoireboux.fr/event/noel-des-enfants-a-ringendorf/
LOCATION:Église luthérienne de Ringendorf\, rue de Kirrwiller\, RINGENDORF\, 67350\, France
CATEGORIES:Veillée
END:VEVENT
BEGIN:VEVENT
DTSTART;TZID=Europe/Paris:20251221T180000
DTEND;TZID=Europe/Paris:20251221T190000
DTSTAMP:20260424T025301
CREATED:20251108T085322Z
LAST-MODIFIED:20251108T085323Z
UID:3503-1766340000-1766343600@consistoireboux.fr
SUMMARY:Noël des enfants à Niedersoultsbach
DESCRIPTION:4éme dimanche de l’Avent
URL:https://consistoireboux.fr/event/noel-des-enfants-a-niedersoultsbach/
LOCATION:Église protestante de Niedersoultzbach\, 1 rue de l'Église\, NIEDERSOULTZBACH\, 67330\, France
CATEGORIES:Cultes
END:VEVENT
BEGIN:VEVENT
DTSTART;TZID=Europe/Paris:20251221T180000
DTEND;TZID=Europe/Paris:20251221T190000
DTSTAMP:20260424T025301
CREATED:20251108T085520Z
LAST-MODIFIED:20251108T085520Z
UID:3506-1766340000-1766343600@consistoireboux.fr
SUMMARY:Noël des enfants à Imbsheim
DESCRIPTION:4éme dimanche de l’Avent
URL:https://consistoireboux.fr/event/noel-des-enfants-a-imbsheim/
LOCATION:Église simultanée de Imbsheim\, 48A rue principale\, IMBSHEIM\, 67330\, France
CATEGORIES:Veillée
END:VEVENT
END:VCALENDAR