BEGIN:VCALENDAR
VERSION:2.0
PRODID:-//Consistoire protestant de Bouxwiller - ECPv6.15.20//NONSGML v1.0//EN
CALSCALE:GREGORIAN
METHOD:PUBLISH
X-WR-CALNAME:Consistoire protestant de Bouxwiller
X-ORIGINAL-URL:https://consistoireboux.fr
X-WR-CALDESC:Évènements pour Consistoire protestant de Bouxwiller
REFRESH-INTERVAL;VALUE=DURATION:PT1H
X-Robots-Tag:noindex
X-PUBLISHED-TTL:PT1H
BEGIN:VTIMEZONE
TZID:Europe/Paris
BEGIN:DAYLIGHT
TZOFFSETFROM:+0100
TZOFFSETTO:+0200
TZNAME:CEST
DTSTART:20240331T010000
END:DAYLIGHT
BEGIN:STANDARD
TZOFFSETFROM:+0200
TZOFFSETTO:+0100
TZNAME:CET
DTSTART:20241027T010000
END:STANDARD
BEGIN:DAYLIGHT
TZOFFSETFROM:+0100
TZOFFSETTO:+0200
TZNAME:CEST
DTSTART:20250330T010000
END:DAYLIGHT
BEGIN:STANDARD
TZOFFSETFROM:+0200
TZOFFSETTO:+0100
TZNAME:CET
DTSTART:20251026T010000
END:STANDARD
BEGIN:DAYLIGHT
TZOFFSETFROM:+0100
TZOFFSETTO:+0200
TZNAME:CEST
DTSTART:20260329T010000
END:DAYLIGHT
BEGIN:STANDARD
TZOFFSETFROM:+0200
TZOFFSETTO:+0100
TZNAME:CET
DTSTART:20261025T010000
END:STANDARD
END:VTIMEZONE
BEGIN:VEVENT
DTSTART;VALUE=DATE:20250112
DTEND;VALUE=DATE:20250113
DTSTAMP:20260423T181513
CREATED:20241227T094958Z
LAST-MODIFIED:20250111T092215Z
UID:2570-1736640000-1736726399@consistoireboux.fr
SUMMARY:Culte à Kirrwiller - ANNULÉ
DESCRIPTION:Culte Annulé
URL:https://consistoireboux.fr/event/culte-a-kirrwiller-23/
LOCATION:Église luthérienne de Kirrwiller\, rue Principale\, KIRRWILLER\, 67330\, France
CATEGORIES:Cultes
END:VEVENT
BEGIN:VEVENT
DTSTART;TZID=Europe/Paris:20250112T093000
DTEND;TZID=Europe/Paris:20250112T103000
DTSTAMP:20260423T181513
CREATED:20241227T094513Z
LAST-MODIFIED:20241227T094513Z
UID:2562-1736674200-1736677800@consistoireboux.fr
SUMMARY:Culte à Bouxwiller
DESCRIPTION:
URL:https://consistoireboux.fr/event/culte-a-bouxwiller-32/
LOCATION:Église protestante de Bouxwiller\, rue de l'Église\, BOUXWILLER\, 67330\, France
CATEGORIES:Cultes
END:VEVENT
BEGIN:VEVENT
DTSTART;TZID=Europe/Paris:20250112T093000
DTEND;TZID=Europe/Paris:20250112T103000
DTSTAMP:20260423T181513
CREATED:20241227T094721Z
LAST-MODIFIED:20241227T094721Z
UID:2566-1736674200-1736677800@consistoireboux.fr
SUMMARY:Culte à Imbsheim
DESCRIPTION:
URL:https://consistoireboux.fr/event/culte-a-imbsheim-54/
LOCATION:Église simultanée de Imbsheim\, 48A rue principale\, IMBSHEIM\, 67330\, France
CATEGORIES:Cultes
END:VEVENT
BEGIN:VEVENT
DTSTART;TZID=Europe/Paris:20250112T093000
DTEND;TZID=Europe/Paris:20250112T103000
DTSTAMP:20260423T181513
CREATED:20241227T094836Z
LAST-MODIFIED:20241227T094836Z
UID:2568-1736674200-1736677800@consistoireboux.fr
SUMMARY:Culte avec Sainte-Cène à Ringendorf
DESCRIPTION:
URL:https://consistoireboux.fr/event/culte-avec-sainte-cene-a-ringendorf-4/
LOCATION:Église luthérienne de Ringendorf\, rue de Kirrwiller\, RINGENDORF\, 67350\, France
CATEGORIES:Cultes
END:VEVENT
BEGIN:VEVENT
DTSTART;TZID=Europe/Paris:20250112T093000
DTEND;TZID=Europe/Paris:20250112T103000
DTSTAMP:20260423T181513
CREATED:20241227T095051Z
LAST-MODIFIED:20241227T095051Z
UID:2572-1736674200-1736677800@consistoireboux.fr
SUMMARY:Culte à Gottesheim
DESCRIPTION:
URL:https://consistoireboux.fr/event/culte-a-gottesheim-53/
LOCATION:Église Saint-Oswald de Gottesheim\, rue des Seigneurs\, GOTTESHEIM\, 67940\, France
CATEGORIES:Cultes
END:VEVENT
BEGIN:VEVENT
DTSTART;TZID=Europe/Paris:20250112T104500
DTEND;TZID=Europe/Paris:20250112T114500
DTSTAMP:20260423T181513
CREATED:20241227T094600Z
LAST-MODIFIED:20241227T094600Z
UID:2564-1736678700-1736682300@consistoireboux.fr
SUMMARY:Culte avec Sainte-Cène à Uttwiller
DESCRIPTION:
URL:https://consistoireboux.fr/event/culte-avec-sainte-cene-a-uttwiller-11/
LOCATION:Eglise protestante d’Uttwiller\, rue d'Ingwiller\, UTTWILLER\, 67330\, France
CATEGORIES:Cultes
END:VEVENT
BEGIN:VEVENT
DTSTART;TZID=Europe/Paris:20250112T104500
DTEND;TZID=Europe/Paris:20250112T114500
DTSTAMP:20260423T181513
CREATED:20241227T095219Z
LAST-MODIFIED:20241227T095219Z
UID:2574-1736678700-1736682300@consistoireboux.fr
SUMMARY:Culte à Geiswiller
DESCRIPTION:
URL:https://consistoireboux.fr/event/culte-a-geiswiller-31/
LOCATION:Église protestante de Geiswiller\, 24 rue principale\, GEISWILLER\, 67270\, France
CATEGORIES:Cultes
END:VEVENT
END:VCALENDAR