BEGIN:VCALENDAR
VERSION:2.0
PRODID:-//Consistoire protestant de Bouxwiller - ECPv6.15.20//NONSGML v1.0//EN
CALSCALE:GREGORIAN
METHOD:PUBLISH
X-WR-CALNAME:Consistoire protestant de Bouxwiller
X-ORIGINAL-URL:https://consistoireboux.fr
X-WR-CALDESC:Évènements pour Consistoire protestant de Bouxwiller
REFRESH-INTERVAL;VALUE=DURATION:PT1H
X-Robots-Tag:noindex
X-PUBLISHED-TTL:PT1H
BEGIN:VTIMEZONE
TZID:Europe/Paris
BEGIN:DAYLIGHT
TZOFFSETFROM:+0100
TZOFFSETTO:+0200
TZNAME:CEST
DTSTART:20240331T010000
END:DAYLIGHT
BEGIN:STANDARD
TZOFFSETFROM:+0200
TZOFFSETTO:+0100
TZNAME:CET
DTSTART:20241027T010000
END:STANDARD
BEGIN:DAYLIGHT
TZOFFSETFROM:+0100
TZOFFSETTO:+0200
TZNAME:CEST
DTSTART:20250330T010000
END:DAYLIGHT
BEGIN:STANDARD
TZOFFSETFROM:+0200
TZOFFSETTO:+0100
TZNAME:CET
DTSTART:20251026T010000
END:STANDARD
BEGIN:DAYLIGHT
TZOFFSETFROM:+0100
TZOFFSETTO:+0200
TZNAME:CEST
DTSTART:20260329T010000
END:DAYLIGHT
BEGIN:STANDARD
TZOFFSETFROM:+0200
TZOFFSETTO:+0100
TZNAME:CET
DTSTART:20261025T010000
END:STANDARD
END:VTIMEZONE
BEGIN:VEVENT
DTSTART;TZID=Europe/Paris:20251109T093000
DTEND;TZID=Europe/Paris:20251109T103000
DTSTAMP:20260421T205951
CREATED:20250830T084306Z
LAST-MODIFIED:20250830T084306Z
UID:3267-1762680600-1762684200@consistoireboux.fr
SUMMARY:Culte à Bosselshausen
DESCRIPTION:
URL:https://consistoireboux.fr/event/culte-a-bosselshausen-35/
LOCATION:Église protestante de Bosselshausen\, 12 rue Principale\, BOSSELSHAUSEN\, 67330
CATEGORIES:Cultes
END:VEVENT
BEGIN:VEVENT
DTSTART;TZID=Europe/Paris:20251109T093000
DTEND;TZID=Europe/Paris:20251109T103000
DTSTAMP:20260421T205951
CREATED:20250830T084507Z
LAST-MODIFIED:20250830T084507Z
UID:3269-1762680600-1762684200@consistoireboux.fr
SUMMARY:Culte à Printzheim
DESCRIPTION:
URL:https://consistoireboux.fr/event/culte-a-printzheim-58/
LOCATION:Église protestante de Printzheim\, 60 place de l'Église\, PRINTZHEIM\, 67490\, France
CATEGORIES:Cultes
END:VEVENT
BEGIN:VEVENT
DTSTART;TZID=Europe/Paris:20251109T093000
DTEND;TZID=Europe/Paris:20251109T103000
DTSTAMP:20260421T205951
CREATED:20250830T084718Z
LAST-MODIFIED:20250830T084718Z
UID:3271-1762680600-1762684200@consistoireboux.fr
SUMMARY:Culte à Wickersheim
DESCRIPTION:Culte café croissants
URL:https://consistoireboux.fr/event/culte-a-wickersheim-45/
LOCATION:Salle du presbytère Wickersheim\, 12 rue Principale\, Wickersheim\, 67270\, France
CATEGORIES:Cultes
END:VEVENT
BEGIN:VEVENT
DTSTART;TZID=Europe/Paris:20251109T104500
DTEND;TZID=Europe/Paris:20251109T114500
DTSTAMP:20260421T205951
CREATED:20250830T084114Z
LAST-MODIFIED:20250830T084114Z
UID:3263-1762685100-1762688700@consistoireboux.fr
SUMMARY:Culte à Uttwiller
DESCRIPTION:
URL:https://consistoireboux.fr/event/culte-a-uttwiller-32/
LOCATION:Eglise protestante d’Uttwiller\, rue d'Ingwiller\, UTTWILLER\, 67330\, France
CATEGORIES:Cultes
END:VEVENT
BEGIN:VEVENT
DTSTART;TZID=Europe/Paris:20251109T104500
DTEND;TZID=Europe/Paris:20251109T114500
DTSTAMP:20260421T205951
CREATED:20250830T084209Z
LAST-MODIFIED:20251105T083049Z
UID:3265-1762685100-1762688700@consistoireboux.fr
SUMMARY:Culte à Imbsheim
DESCRIPTION:
URL:https://consistoireboux.fr/event/culte-a-imbsheim-72/
LOCATION:Église simultanée de Imbsheim\, 48A rue principale\, IMBSHEIM\, 67330\, France
CATEGORIES:Cultes
END:VEVENT
END:VCALENDAR