BEGIN:VCALENDAR
VERSION:2.0
PRODID:-//Consistoire protestant de Bouxwiller - ECPv6.15.20//NONSGML v1.0//EN
CALSCALE:GREGORIAN
METHOD:PUBLISH
X-WR-CALNAME:Consistoire protestant de Bouxwiller
X-ORIGINAL-URL:https://consistoireboux.fr
X-WR-CALDESC:Évènements pour Consistoire protestant de Bouxwiller
REFRESH-INTERVAL;VALUE=DURATION:PT1H
X-Robots-Tag:noindex
X-PUBLISHED-TTL:PT1H
BEGIN:VTIMEZONE
TZID:Europe/Paris
BEGIN:DAYLIGHT
TZOFFSETFROM:+0100
TZOFFSETTO:+0200
TZNAME:CEST
DTSTART:20240331T010000
END:DAYLIGHT
BEGIN:STANDARD
TZOFFSETFROM:+0200
TZOFFSETTO:+0100
TZNAME:CET
DTSTART:20241027T010000
END:STANDARD
BEGIN:DAYLIGHT
TZOFFSETFROM:+0100
TZOFFSETTO:+0200
TZNAME:CEST
DTSTART:20250330T010000
END:DAYLIGHT
BEGIN:STANDARD
TZOFFSETFROM:+0200
TZOFFSETTO:+0100
TZNAME:CET
DTSTART:20251026T010000
END:STANDARD
BEGIN:DAYLIGHT
TZOFFSETFROM:+0100
TZOFFSETTO:+0200
TZNAME:CEST
DTSTART:20260329T010000
END:DAYLIGHT
BEGIN:STANDARD
TZOFFSETFROM:+0200
TZOFFSETTO:+0100
TZNAME:CET
DTSTART:20261025T010000
END:STANDARD
END:VTIMEZONE
BEGIN:VEVENT
DTSTART;TZID=Europe/Paris:20251116T093000
DTEND;TZID=Europe/Paris:20251116T103000
DTSTAMP:20260421T205856
CREATED:20251105T083240Z
LAST-MODIFIED:20251105T083240Z
UID:3413-1763285400-1763289000@consistoireboux.fr
SUMMARY:Culte à Bouxwiller
DESCRIPTION:Culte de Mémoire des défunts
URL:https://consistoireboux.fr/event/culte-a-bouxwiller-49/
LOCATION:Église protestante de Bouxwiller\, rue de l'Église\, BOUXWILLER\, 67330\, France
CATEGORIES:Cultes
END:VEVENT
BEGIN:VEVENT
DTSTART;TZID=Europe/Paris:20251116T093000
DTEND;TZID=Europe/Paris:20251116T103000
DTSTAMP:20260421T205856
CREATED:20251105T083440Z
LAST-MODIFIED:20251105T083440Z
UID:3417-1763285400-1763289000@consistoireboux.fr
SUMMARY:Culte à Hattmatt
DESCRIPTION:
URL:https://consistoireboux.fr/event/culte-a-hattmatt-77/
LOCATION:Église simultanée Saint Laurent Hattmatt\, 2 rue de Dossenheim\, HATTMATT\, 67330\, France
CATEGORIES:Cultes
END:VEVENT
BEGIN:VEVENT
DTSTART;TZID=Europe/Paris:20251116T093000
DTEND;TZID=Europe/Paris:20251116T103000
DTSTAMP:20260421T205856
CREATED:20251105T083611Z
LAST-MODIFIED:20251105T083611Z
UID:3419-1763285400-1763289000@consistoireboux.fr
SUMMARY:Culte à Ringendorf
DESCRIPTION:Culte de Mémoire des défunts
URL:https://consistoireboux.fr/event/culte-a-ringendorf-32/
LOCATION:Église luthérienne de Ringendorf\, rue de Kirrwiller\, RINGENDORF\, 67350\, France
CATEGORIES:Cultes
END:VEVENT
BEGIN:VEVENT
DTSTART;TZID=Europe/Paris:20251116T104500
DTEND;TZID=Europe/Paris:20251116T114500
DTSTAMP:20260421T205856
CREATED:20251105T083341Z
LAST-MODIFIED:20251105T083341Z
UID:3415-1763289900-1763293500@consistoireboux.fr
SUMMARY:Culte à Riedheim
DESCRIPTION:Culte de Mémoire des défunts
URL:https://consistoireboux.fr/event/culte-a-riedheim-30/
LOCATION:Église simultanée de Riedheim\, rue de l'Église\, RIEDHEIM\, 67330\, France
CATEGORIES:Cultes
END:VEVENT
BEGIN:VEVENT
DTSTART;TZID=Europe/Paris:20251116T104500
DTEND;TZID=Europe/Paris:20251116T114500
DTSTAMP:20260421T205856
CREATED:20251105T083701Z
LAST-MODIFIED:20251105T083701Z
UID:3421-1763289900-1763293500@consistoireboux.fr
SUMMARY:Culte à Kirrwiller
DESCRIPTION:Culte de Mémoire des défunts
URL:https://consistoireboux.fr/event/culte-a-kirrwiller-33/
LOCATION:Église luthérienne de Kirrwiller\, rue Principale\, KIRRWILLER\, 67330\, France
CATEGORIES:Cultes
END:VEVENT
BEGIN:VEVENT
DTSTART;TZID=Europe/Paris:20251116T104500
DTEND;TZID=Europe/Paris:20251116T114500
DTSTAMP:20260421T205856
CREATED:20251105T083759Z
LAST-MODIFIED:20251105T083759Z
UID:3423-1763289900-1763293500@consistoireboux.fr
SUMMARY:Culte à Gottesheim
DESCRIPTION:Culte de Mémoire des défunts
URL:https://consistoireboux.fr/event/culte-a-gottesheim-64/
LOCATION:Église Saint-Oswald de Gottesheim\, rue des Seigneurs\, GOTTESHEIM\, 67940\, France
CATEGORIES:Cultes
END:VEVENT
BEGIN:VEVENT
DTSTART;TZID=Europe/Paris:20251116T104500
DTEND;TZID=Europe/Paris:20251116T114500
DTSTAMP:20260421T205856
CREATED:20251105T083843Z
LAST-MODIFIED:20251105T083843Z
UID:3425-1763289900-1763293500@consistoireboux.fr
SUMMARY:Culte à Geiswiller
DESCRIPTION:
URL:https://consistoireboux.fr/event/culte-a-geiswiller-39/
LOCATION:Église protestante de Geiswiller\, 24 rue principale\, GEISWILLER\, 67270\, France
CATEGORIES:Cultes
END:VEVENT
END:VCALENDAR