BEGIN:VCALENDAR
VERSION:2.0
PRODID:-//Consistoire protestant de Bouxwiller - ECPv6.15.20//NONSGML v1.0//EN
CALSCALE:GREGORIAN
METHOD:PUBLISH
X-ORIGINAL-URL:https://consistoireboux.fr
X-WR-CALDESC:Évènements pour Consistoire protestant de Bouxwiller
REFRESH-INTERVAL;VALUE=DURATION:PT1H
X-Robots-Tag:noindex
X-PUBLISHED-TTL:PT1H
BEGIN:VTIMEZONE
TZID:Europe/Paris
BEGIN:DAYLIGHT
TZOFFSETFROM:+0100
TZOFFSETTO:+0200
TZNAME:CEST
DTSTART:20240331T010000
END:DAYLIGHT
BEGIN:STANDARD
TZOFFSETFROM:+0200
TZOFFSETTO:+0100
TZNAME:CET
DTSTART:20241027T010000
END:STANDARD
BEGIN:DAYLIGHT
TZOFFSETFROM:+0100
TZOFFSETTO:+0200
TZNAME:CEST
DTSTART:20250330T010000
END:DAYLIGHT
BEGIN:STANDARD
TZOFFSETFROM:+0200
TZOFFSETTO:+0100
TZNAME:CET
DTSTART:20251026T010000
END:STANDARD
BEGIN:DAYLIGHT
TZOFFSETFROM:+0100
TZOFFSETTO:+0200
TZNAME:CEST
DTSTART:20260329T010000
END:DAYLIGHT
BEGIN:STANDARD
TZOFFSETFROM:+0200
TZOFFSETTO:+0100
TZNAME:CET
DTSTART:20261025T010000
END:STANDARD
END:VTIMEZONE
BEGIN:VEVENT
DTSTART;TZID=Europe/Paris:20251225T093000
DTEND;TZID=Europe/Paris:20251225T103000
DTSTAMP:20260421T193501
CREATED:20251108T095232Z
LAST-MODIFIED:20251108T095232Z
UID:3528-1766655000-1766658600@consistoireboux.fr
SUMMARY:Culte avec Sainte-Cène à Imbsheim
DESCRIPTION:Culte de Noël
URL:https://consistoireboux.fr/event/culte-avec-sainte-cene-a-imbsheim-9/
LOCATION:Église simultanée de Imbsheim\, 48A rue principale\, IMBSHEIM\, 67330\, France
CATEGORIES:Cultes
END:VEVENT
BEGIN:VEVENT
DTSTART;TZID=Europe/Paris:20251225T093000
DTEND;TZID=Europe/Paris:20251225T103000
DTSTAMP:20260421T193501
CREATED:20251108T095435Z
LAST-MODIFIED:20251108T095435Z
UID:3532-1766655000-1766658600@consistoireboux.fr
SUMMARY:Culte avec Sainte-Cène à Buswiller
DESCRIPTION:Culte de Noël
URL:https://consistoireboux.fr/event/culte-avec-sainte-cene-a-buswiller-15/
LOCATION:Église Saint-Sixte Buswiller\, rue Principale\, BUSWILLER\, 67270\, France
CATEGORIES:Cultes
END:VEVENT
BEGIN:VEVENT
DTSTART;TZID=Europe/Paris:20251225T104500
DTEND;TZID=Europe/Paris:20251225T114500
DTSTAMP:20260421T193501
CREATED:20251108T095141Z
LAST-MODIFIED:20251108T095141Z
UID:3526-1766659500-1766663100@consistoireboux.fr
SUMMARY:Culte avec Sainte-Cène à Niedersoultsbach
DESCRIPTION:Culte de Noël
URL:https://consistoireboux.fr/event/culte-avec-sainte-cene-a-niedersoultsbach-12/
LOCATION:Église protestante de Niedersoultzbach\, 1 rue de l'Église\, NIEDERSOULTZBACH\, 67330\, France
CATEGORIES:Cultes
END:VEVENT
BEGIN:VEVENT
DTSTART;TZID=Europe/Paris:20251225T104500
DTEND;TZID=Europe/Paris:20251225T114500
DTSTAMP:20260421T193501
CREATED:20251108T095342Z
LAST-MODIFIED:20251108T095342Z
UID:3530-1766659500-1766663100@consistoireboux.fr
SUMMARY:Culte avec Sainte-Cène à Hattmatt
DESCRIPTION:Culte de Noël
URL:https://consistoireboux.fr/event/culte-avec-sainte-cene-a-hattmatt-14/
LOCATION:Église simultanée Saint Laurent Hattmatt\, 2 rue de Dossenheim\, HATTMATT\, 67330\, France
CATEGORIES:Cultes
END:VEVENT
BEGIN:VEVENT
DTSTART;TZID=Europe/Paris:20251225T104500
DTEND;TZID=Europe/Paris:20251225T114500
DTSTAMP:20260421T193501
CREATED:20251108T095555Z
LAST-MODIFIED:20251108T095555Z
UID:3534-1766659500-1766663100@consistoireboux.fr
SUMMARY:Culte avec Sainte-Cène à Printzheim
DESCRIPTION:Culte de Noël
URL:https://consistoireboux.fr/event/culte-avec-sainte-cene-a-printzheim-14/
LOCATION:Église protestante de Printzheim\, 60 place de l'Église\, PRINTZHEIM\, 67490\, France
CATEGORIES:Cultes
END:VEVENT
BEGIN:VEVENT
DTSTART;TZID=Europe/Paris:20251225T104500
DTEND;TZID=Europe/Paris:20251225T114500
DTSTAMP:20260421T193501
CREATED:20251108T095709Z
LAST-MODIFIED:20251117T081525Z
UID:3536-1766659500-1766663100@consistoireboux.fr
SUMMARY:Culte avec Sainte-Cène à Zoebersdorf
DESCRIPTION:Culte de Noël avec les catéchumènes \nÀ noter : culte se trouve à Zoebersdorf et non à Wickersheim comme indiqué dans le Nouveau Messager.
URL:https://consistoireboux.fr/event/culte-avec-sainte-cene-a-zoebersdorf-14/
LOCATION:Église protestante de Zoebersdorf\, 12 rue de l'Église\, ZOEBERSDORF\, 67270\, France
CATEGORIES:Cultes
END:VEVENT
END:VCALENDAR