BEGIN:VCALENDAR
VERSION:2.0
PRODID:-//Consistoire protestant de Bouxwiller - ECPv6.15.20//NONSGML v1.0//EN
CALSCALE:GREGORIAN
METHOD:PUBLISH
X-ORIGINAL-URL:https://consistoireboux.fr
X-WR-CALDESC:Évènements pour Consistoire protestant de Bouxwiller
REFRESH-INTERVAL;VALUE=DURATION:PT1H
X-Robots-Tag:noindex
X-PUBLISHED-TTL:PT1H
BEGIN:VTIMEZONE
TZID:Europe/Paris
BEGIN:DAYLIGHT
TZOFFSETFROM:+0100
TZOFFSETTO:+0200
TZNAME:CEST
DTSTART:20250330T010000
END:DAYLIGHT
BEGIN:STANDARD
TZOFFSETFROM:+0200
TZOFFSETTO:+0100
TZNAME:CET
DTSTART:20251026T010000
END:STANDARD
BEGIN:DAYLIGHT
TZOFFSETFROM:+0100
TZOFFSETTO:+0200
TZNAME:CEST
DTSTART:20260329T010000
END:DAYLIGHT
BEGIN:STANDARD
TZOFFSETFROM:+0200
TZOFFSETTO:+0100
TZNAME:CET
DTSTART:20261025T010000
END:STANDARD
BEGIN:DAYLIGHT
TZOFFSETFROM:+0100
TZOFFSETTO:+0200
TZNAME:CEST
DTSTART:20270328T010000
END:DAYLIGHT
BEGIN:STANDARD
TZOFFSETFROM:+0200
TZOFFSETTO:+0100
TZNAME:CET
DTSTART:20271031T010000
END:STANDARD
END:VTIMEZONE
BEGIN:VEVENT
DTSTART;TZID=Europe/Paris:20260111T093000
DTEND;TZID=Europe/Paris:20260111T103000
DTSTAMP:20260421T181608
CREATED:20251226T103546Z
LAST-MODIFIED:20251226T103546Z
UID:3596-1768123800-1768127400@consistoireboux.fr
SUMMARY:Culte à Imbsheim
DESCRIPTION:
URL:https://consistoireboux.fr/event/culte-a-imbsheim-75/
LOCATION:Église simultanée de Imbsheim\, 48A rue principale\, IMBSHEIM\, 67330\, France
CATEGORIES:Cultes
END:VEVENT
BEGIN:VEVENT
DTSTART;TZID=Europe/Paris:20260111T093000
DTEND;TZID=Europe/Paris:20260111T103000
DTSTAMP:20260421T181608
CREATED:20251226T103736Z
LAST-MODIFIED:20251226T103857Z
UID:3600-1768123800-1768127400@consistoireboux.fr
SUMMARY:Culte à Bosselshausen
DESCRIPTION:
URL:https://consistoireboux.fr/event/culte-a-bosselshausen-10a/
LOCATION:Église protestante de Bosselshausen\, 12 rue Principale\, BOSSELSHAUSEN\, 67330
CATEGORIES:Cultes
END:VEVENT
BEGIN:VEVENT
DTSTART;TZID=Europe/Paris:20260111T104500
DTEND;TZID=Europe/Paris:20260111T114500
DTSTAMP:20260421T181608
CREATED:20251226T104036Z
LAST-MODIFIED:20251226T104036Z
UID:3604-1768128300-1768131900@consistoireboux.fr
SUMMARY:Culte avec Sainte-Cène à Gottesheim
DESCRIPTION:
URL:https://consistoireboux.fr/event/culte-avec-sainte-cene-a-gottesheim-14/
LOCATION:Église Saint-Oswald de Gottesheim\, rue des Seigneurs\, GOTTESHEIM\, 67940\, France
CATEGORIES:Cultes
END:VEVENT
BEGIN:VEVENT
DTSTART;TZID=Europe/Paris:20260111T104500
DTEND;TZID=Europe/Paris:20260111T114500
DTSTAMP:20260421T181608
CREATED:20251226T104131Z
LAST-MODIFIED:20251226T104328Z
UID:3606-1768128300-1768131900@consistoireboux.fr
SUMMARY:Culte à Geiswiller
DESCRIPTION:
URL:https://consistoireboux.fr/event/culte-a-geiswiller-40/
LOCATION:Église protestante de Geiswiller\, 24 rue principale\, GEISWILLER\, 67270\, France
CATEGORIES:Cultes
END:VEVENT
END:VCALENDAR