BEGIN:VCALENDAR
VERSION:2.0
PRODID:-//Consistoire protestant de Bouxwiller - ECPv6.15.20//NONSGML v1.0//EN
CALSCALE:GREGORIAN
METHOD:PUBLISH
X-ORIGINAL-URL:https://consistoireboux.fr
X-WR-CALDESC:Évènements pour Consistoire protestant de Bouxwiller
REFRESH-INTERVAL;VALUE=DURATION:PT1H
X-Robots-Tag:noindex
X-PUBLISHED-TTL:PT1H
BEGIN:VTIMEZONE
TZID:Europe/Paris
BEGIN:DAYLIGHT
TZOFFSETFROM:+0100
TZOFFSETTO:+0200
TZNAME:CEST
DTSTART:20240331T010000
END:DAYLIGHT
BEGIN:STANDARD
TZOFFSETFROM:+0200
TZOFFSETTO:+0100
TZNAME:CET
DTSTART:20241027T010000
END:STANDARD
BEGIN:DAYLIGHT
TZOFFSETFROM:+0100
TZOFFSETTO:+0200
TZNAME:CEST
DTSTART:20250330T010000
END:DAYLIGHT
BEGIN:STANDARD
TZOFFSETFROM:+0200
TZOFFSETTO:+0100
TZNAME:CET
DTSTART:20251026T010000
END:STANDARD
BEGIN:DAYLIGHT
TZOFFSETFROM:+0100
TZOFFSETTO:+0200
TZNAME:CEST
DTSTART:20260329T010000
END:DAYLIGHT
BEGIN:STANDARD
TZOFFSETFROM:+0200
TZOFFSETTO:+0100
TZNAME:CET
DTSTART:20261025T010000
END:STANDARD
END:VTIMEZONE
BEGIN:VEVENT
DTSTART;TZID=Europe/Paris:20251001T193000
DTEND;TZID=Europe/Paris:20251001T200000
DTSTAMP:20260421T072838
CREATED:20250901T095208Z
LAST-MODIFIED:20250929T091607Z
UID:3280-1759347000-1759348800@consistoireboux.fr
SUMMARY:Prière pour la paix à Wimmenau
DESCRIPTION:
URL:https://consistoireboux.fr/event/priere-pour-la-paix-a-wimmeneau/
LOCATION:Église Saint André\, 9 Rue Principale\, Wimmeneau\, 67290\, France
CATEGORIES:Prière pour la paix
END:VEVENT
BEGIN:VEVENT
DTSTART;TZID=Europe/Paris:20251004T183000
DTEND;TZID=Europe/Paris:20251004T193000
DTSTAMP:20260421T072838
CREATED:20250829T092706Z
LAST-MODIFIED:20250829T092706Z
UID:3223-1759602600-1759606200@consistoireboux.fr
SUMMARY:Culte Autrement à Ringendorf
DESCRIPTION:Tous les deux mois\, nous organisons les cultes de samedi soir à Ringendorf. Ils prendront une forme particulière\, chacun pourra y participer et aussi poser ses questions.\nUn sujet spécifique vous sera proposé pour vous accompagner sur le chemin de la foi. \nCe temps sera prolongé par un verre de l’amitié. Venez vous laisser interpeller par la Bonne Nouvelle\, chanter et prier ensemble.
URL:https://consistoireboux.fr/event/culte-autrement-a-ringendorf-5/
LOCATION:Église luthérienne de Ringendorf\, rue de Kirrwiller\, RINGENDORF\, 67350\, France
CATEGORIES:Cultes
END:VEVENT
BEGIN:VEVENT
DTSTART;TZID=Europe/Paris:20251005T093000
DTEND;TZID=Europe/Paris:20251005T103000
DTSTAMP:20260421T072838
CREATED:20250829T092311Z
LAST-MODIFIED:20250829T092311Z
UID:3219-1759656600-1759660200@consistoireboux.fr
SUMMARY:Culte à Niedersoultzbach
DESCRIPTION:Culte des Récoltes
URL:https://consistoireboux.fr/event/culte-a-niedersoultzbach-31/
LOCATION:Église protestante de Niedersoultzbach\, 1 rue de l'Église\, NIEDERSOULTZBACH\, 67330\, France
CATEGORIES:Cultes
END:VEVENT
BEGIN:VEVENT
DTSTART;TZID=Europe/Paris:20251005T093000
DTEND;TZID=Europe/Paris:20251005T103000
DTSTAMP:20260421T072838
CREATED:20250829T092805Z
LAST-MODIFIED:20250829T092805Z
UID:3225-1759656600-1759660200@consistoireboux.fr
SUMMARY:Culte avec Sainte-Cène à Bosselshausen
DESCRIPTION:Culte des Récoltes
URL:https://consistoireboux.fr/event/culte-avec-sainte-cene-a-bosselshausen-9/
LOCATION:Église protestante de Bosselshausen\, 12 rue Principale\, BOSSELSHAUSEN\, 67330
CATEGORIES:Cultes
END:VEVENT
BEGIN:VEVENT
DTSTART;TZID=Europe/Paris:20251005T104500
DTEND;TZID=Europe/Paris:20251005T114500
DTSTAMP:20260421T072838
CREATED:20250829T092532Z
LAST-MODIFIED:20250829T092532Z
UID:3221-1759661100-1759664700@consistoireboux.fr
SUMMARY:Culte à Hattmatt
DESCRIPTION:Culte des Récoltes avec présentation des nouveaux catéchumènes
URL:https://consistoireboux.fr/event/culte-a-hattmatt-74/
LOCATION:Église simultanée Saint Laurent Hattmatt\, 2 rue de Dossenheim\, HATTMATT\, 67330\, France
CATEGORIES:Cultes
END:VEVENT
BEGIN:VEVENT
DTSTART;TZID=Europe/Paris:20251005T104500
DTEND;TZID=Europe/Paris:20251005T114500
DTSTAMP:20260421T072838
CREATED:20250829T092914Z
LAST-MODIFIED:20250829T092914Z
UID:3227-1759661100-1759664700@consistoireboux.fr
SUMMARY:Culte avec Sainte-Cène à Gottesheim
DESCRIPTION:Culte des Récoltes
URL:https://consistoireboux.fr/event/culte-avec-sainte-cene-a-gottesheim-11/
LOCATION:Église Saint-Oswald de Gottesheim\, rue des Seigneurs\, GOTTESHEIM\, 67940\, France
END:VEVENT
BEGIN:VEVENT
DTSTART;TZID=Europe/Paris:20251012T093000
DTEND;TZID=Europe/Paris:20251012T103000
DTSTAMP:20260421T072838
CREATED:20250829T093216Z
LAST-MODIFIED:20250829T093216Z
UID:3229-1760261400-1760265000@consistoireboux.fr
SUMMARY:Culte à Uttwiller
DESCRIPTION:Culte des Récoltes
URL:https://consistoireboux.fr/event/culte-a-uttwiller-31/
LOCATION:Eglise protestante d’Uttwiller\, rue d'Ingwiller\, UTTWILLER\, 67330\, France
CATEGORIES:Cultes
END:VEVENT
BEGIN:VEVENT
DTSTART;TZID=Europe/Paris:20251012T103000
DTEND;TZID=Europe/Paris:20251012T113000
DTSTAMP:20260421T072838
CREATED:20250829T094006Z
LAST-MODIFIED:20250922T183223Z
UID:3233-1760265000-1760268600@consistoireboux.fr
SUMMARY:Culte à Printzheim
DESCRIPTION:Fête paroissiale avec la Fanfare Lichtenberg / Reipertswiller
URL:https://consistoireboux.fr/event/culte-a-printzheim-57/
LOCATION:Église protestante de Printzheim\, 60 place de l'Église\, PRINTZHEIM\, 67490\, France
CATEGORIES:Cultes,Événements sociaux
END:VEVENT
BEGIN:VEVENT
DTSTART;TZID=Europe/Paris:20251012T104500
DTEND;TZID=Europe/Paris:20251012T114500
DTSTAMP:20260421T072838
CREATED:20250829T093325Z
LAST-MODIFIED:20250829T093325Z
UID:3231-1760265900-1760269500@consistoireboux.fr
SUMMARY:Culte à Imbsheim
DESCRIPTION:Culte des Récoltes
URL:https://consistoireboux.fr/event/culte-a-imbsheim-70/
LOCATION:Église simultanée de Imbsheim\, 48A rue principale\, IMBSHEIM\, 67330\, France
CATEGORIES:Cultes
END:VEVENT
BEGIN:VEVENT
DTSTART;TZID=Europe/Paris:20251012T104500
DTEND;TZID=Europe/Paris:20251012T114500
DTSTAMP:20260421T072838
CREATED:20250829T094110Z
LAST-MODIFIED:20250829T094110Z
UID:3235-1760265900-1760269500@consistoireboux.fr
SUMMARY:Culte à Geiswiller
DESCRIPTION:
URL:https://consistoireboux.fr/event/culte-a-geiswiller-38/
LOCATION:Église protestante de Geiswiller\, 24 rue principale\, GEISWILLER\, 67270\, France
CATEGORIES:Cultes
END:VEVENT
BEGIN:VEVENT
DTSTART;TZID=Europe/Paris:20251012T104500
DTEND;TZID=Europe/Paris:20251012T114500
DTSTAMP:20260421T072838
CREATED:20251012T064311Z
LAST-MODIFIED:20251012T064311Z
UID:3403-1760265900-1760269500@consistoireboux.fr
SUMMARY:Culte à Issenhausen
DESCRIPTION:
URL:https://consistoireboux.fr/event/culte-a-issenhausen-10/
LOCATION:Église protestante d’Issenhausen\, 1 rue de l'Église\, ISSENHAUSEN\, 67330\, France
CATEGORIES:Cultes
END:VEVENT
BEGIN:VEVENT
DTSTART;TZID=Europe/Paris:20251018T200000
DTEND;TZID=Europe/Paris:20251018T220000
DTSTAMP:20260421T072838
CREATED:20250922T192353Z
LAST-MODIFIED:20250922T192353Z
UID:3378-1760817600-1760824800@consistoireboux.fr
SUMMARY:Soirée de chant participatif à Bouxwiller
DESCRIPTION:
URL:https://consistoireboux.fr/event/soiree-de-chant-participatif-a-bouxwiller/
LOCATION:Église protestante de Bouxwiller\, rue de l'Église\, BOUXWILLER\, 67330\, France
CATEGORIES:Concert
END:VEVENT
BEGIN:VEVENT
DTSTART;TZID=Europe/Paris:20251025T180000
DTEND;TZID=Europe/Paris:20251025T190000
DTSTAMP:20260421T072838
CREATED:20250830T082657Z
LAST-MODIFIED:20250830T082657Z
UID:3249-1761415200-1761418800@consistoireboux.fr
SUMMARY:Veillée à Zoebersdorf
DESCRIPTION:Veillée de la réformation avec les KT et EUL
URL:https://consistoireboux.fr/event/veillee-a-zoebersdorf/
LOCATION:Église protestante de Zoebersdorf\, 12 rue de l'Église\, ZOEBERSDORF\, 67270\, France
CATEGORIES:Veillée
END:VEVENT
BEGIN:VEVENT
DTSTART;TZID=Europe/Paris:20251026T093000
DTEND;TZID=Europe/Paris:20251026T103000
DTSTAMP:20260421T072838
CREATED:20250830T081939Z
LAST-MODIFIED:20250830T081939Z
UID:3241-1761471000-1761474600@consistoireboux.fr
SUMMARY:Culte à Hattmatt
DESCRIPTION:Culte de la Réformation
URL:https://consistoireboux.fr/event/culte-a-hattmatt-75/
LOCATION:Église simultanée Saint Laurent Hattmatt\, 2 rue de Dossenheim\, HATTMATT\, 67330\, France
CATEGORIES:Cultes
END:VEVENT
BEGIN:VEVENT
DTSTART;TZID=Europe/Paris:20251026T093000
DTEND;TZID=Europe/Paris:20251026T103000
DTSTAMP:20260421T072838
CREATED:20250830T082347Z
LAST-MODIFIED:20250830T082347Z
UID:3245-1761471000-1761474600@consistoireboux.fr
SUMMARY:Culte avec Sainte-Cène à Buswiller
DESCRIPTION:Culte de la Réformation
URL:https://consistoireboux.fr/event/culte-avec-sainte-cene-a-buswiller-14/
LOCATION:Église Saint-Sixte Buswiller\, rue Principale\, BUSWILLER\, 67270\, France
CATEGORIES:Cultes
END:VEVENT
BEGIN:VEVENT
DTSTART;TZID=Europe/Paris:20251026T093000
DTEND;TZID=Europe/Paris:20251026T103000
DTSTAMP:20260421T072838
CREATED:20250830T082450Z
LAST-MODIFIED:20250830T082450Z
UID:3247-1761471000-1761474600@consistoireboux.fr
SUMMARY:Culte avec Sainte-Cène à Printzheim
DESCRIPTION:Culte de la Réformation
URL:https://consistoireboux.fr/event/culte-avec-sainte-cene-a-printzheim-13/
LOCATION:Église protestante de Printzheim\, 60 place de l'Église\, PRINTZHEIM\, 67490\, France
CATEGORIES:Cultes
END:VEVENT
BEGIN:VEVENT
DTSTART;TZID=Europe/Paris:20251026T104500
DTEND;TZID=Europe/Paris:20251026T114500
DTSTAMP:20260421T072838
CREATED:20250830T081810Z
LAST-MODIFIED:20250830T081810Z
UID:3239-1761475500-1761479100@consistoireboux.fr
SUMMARY:Culte avec Sainte-Cène à Riedheim
DESCRIPTION:Culte de la Réformation
URL:https://consistoireboux.fr/event/culte-avec-sainte-cene-a-riedheim-16/
LOCATION:Église simultanée de Riedheim\, rue de l'Église\, RIEDHEIM\, 67330\, France
CATEGORIES:Cultes
END:VEVENT
BEGIN:VEVENT
DTSTART;TZID=Europe/Paris:20251026T104500
DTEND;TZID=Europe/Paris:20251026T114500
DTSTAMP:20260421T072838
CREATED:20250830T082119Z
LAST-MODIFIED:20250830T082119Z
UID:3243-1761475500-1761479100@consistoireboux.fr
SUMMARY:Culte à Imbsheim
DESCRIPTION:Culte de la Réformation
URL:https://consistoireboux.fr/event/culte-a-imbsheim-71/
LOCATION:Église simultanée de Imbsheim\, 48A rue principale\, IMBSHEIM\, 67330\, France
CATEGORIES:Cultes
END:VEVENT
END:VCALENDAR